BEGIN:VCALENDAR
VERSION:2.0
PRODID:-//Otway Coast Regenerative Farmers - ECPv5.3.0//NONSGML v1.0//EN
CALSCALE:GREGORIAN
METHOD:PUBLISH
X-WR-CALNAME:Otway Coast Regenerative Farmers
X-ORIGINAL-URL:https://otwaycoastregenerativefarmers.com.au
X-WR-CALDESC:Events for Otway Coast Regenerative Farmers
BEGIN:VTIMEZONE
TZID:Australia/Melbourne
BEGIN:STANDARD
TZOFFSETFROM:+1100
TZOFFSETTO:+1000
TZNAME:AEST
DTSTART:20190406T160000
END:STANDARD
BEGIN:DAYLIGHT
TZOFFSETFROM:+1000
TZOFFSETTO:+1100
TZNAME:AEDT
DTSTART:20191005T160000
END:DAYLIGHT
END:VTIMEZONE
BEGIN:VEVENT
DTSTART;VALUE=DATE:20190918
DTEND;VALUE=DATE:20190921
DTSTAMP:20210225T132819
CREATED:20190420T082837Z
LAST-MODIFIED:20190703T233003Z
UID:912-1568764800-1569023999@otwaycoastregenerativefarmers.com.au
SUMMARY:From the Ground Up
DESCRIPTION:OCRF are proud to bring to the Corangamite Region a conference focused on Regenerative Agriculture. \nAs the cost of inputs rise and the challenges of farming in a changing climate become more pressing\, we need to find new approaches to managing our farm businesses. \nRegenerative agriculture can help you reduce costs by more efficiently using the resources you already have available.  Through working with natural inputs and learning to work more effectively with natural processes\, regenerative agriculture can help improve your soil\, pastures and livestock health while also improving your bottom line. \nHosted by biodynamic farmer\, grazier and 2018 Bob Hawke Landcare Award Winner Charlie Arnott\, this 3 day conference introduces you to the fundamental principles of regenerative agriculture.  The program includes presentations\, panel discussions and field visits with a host of experts including Dr Christine Jones\, Dianne and Ian Haggerty\, Kym Kruse\, Colin Seis\, Grant Simms and Tammi Jonas. \n18 September: Why do we need Regenerative Agriculture?  What is the history of our landscape and what does this tell us about the future? What do we need to understand about our changing climate and how are communities coming together to respond to challenges? \n19 September: How do we do Regenerative Agriculture? Foundational technical learning in building and maintaining healthy soils\, ground cover and pasture management. \n20 September: What would my business look like? Hear about examples of successful regenerative agriculture businesses at all scales. Understand the challenges and opportunities that you might face. \nThis program covers topics relevant to farms at all scales\, production types and stages of business. \nBook Tickets here: \nhttp://www.copacc.com.au/Events/From-the-Ground-Up-Growing-Regenerative-Agriculture-in-Corangamite \n** Please advise any special dietary requirements for the Conference catering and Dinner to copacc@colacotway.vic.gov.au
URL:https://otwaycoastregenerativefarmers.com.au/event/from-the-ground-up/
LOCATION:Colac\, Victoria\, Colac\, Victoria\, 3250\, Australia
CATEGORIES:Presentations
ATTACH;FMTTYPE=image/png:https://otwaycoastregenerativefarmers.com.au/wp-content/uploads/2019/04/from-the-grown-up.png
ORGANIZER;CN="Otway%20Coast%20Regenerative%20Farmers":MAILTO:OCRFgroup@gmail.com
END:VEVENT
END:VCALENDAR